BEGIN:VCALENDAR
VERSION:2.0
PRODID:-//Sport Santé 86 - ECPv6.15.20//NONSGML v1.0//EN
CALSCALE:GREGORIAN
METHOD:PUBLISH
X-WR-CALNAME:Sport Santé 86
X-ORIGINAL-URL:https://sportsante86.fr
X-WR-CALDESC:Évènements pour Sport Santé 86
REFRESH-INTERVAL;VALUE=DURATION:PT1H
X-Robots-Tag:noindex
X-PUBLISHED-TTL:PT1H
BEGIN:VTIMEZONE
TZID:Europe/Paris
BEGIN:DAYLIGHT
TZOFFSETFROM:+0100
TZOFFSETTO:+0200
TZNAME:CEST
DTSTART:20200329T010000
END:DAYLIGHT
BEGIN:STANDARD
TZOFFSETFROM:+0200
TZOFFSETTO:+0100
TZNAME:CET
DTSTART:20201025T010000
END:STANDARD
BEGIN:DAYLIGHT
TZOFFSETFROM:+0100
TZOFFSETTO:+0200
TZNAME:CEST
DTSTART:20210328T010000
END:DAYLIGHT
BEGIN:STANDARD
TZOFFSETFROM:+0200
TZOFFSETTO:+0100
TZNAME:CET
DTSTART:20211031T010000
END:STANDARD
BEGIN:DAYLIGHT
TZOFFSETFROM:+0100
TZOFFSETTO:+0200
TZNAME:CEST
DTSTART:20220327T010000
END:DAYLIGHT
BEGIN:STANDARD
TZOFFSETFROM:+0200
TZOFFSETTO:+0100
TZNAME:CET
DTSTART:20221030T010000
END:STANDARD
END:VTIMEZONE
BEGIN:VEVENT
DTSTART;VALUE=DATE:20210912
DTEND;VALUE=DATE:20210913
DTSTAMP:20260422T084046
CREATED:20210906T093350Z
LAST-MODIFIED:20210906T093350Z
UID:2336-1631404800-1631491199@sportsante86.fr
SUMMARY:Journée des associations 2021
DESCRIPTION:
URL:https://sportsante86.fr/evenement/journee-des-associations-2021/
LOCATION:Parc de Blossac\, 1 BIS Rue Léopold-Thézard\, Poitiers\, 86000\, France
END:VEVENT
BEGIN:VEVENT
DTSTART;TZID=Europe/Paris:20210917T203000
DTEND;TZID=Europe/Paris:20210917T220000
DTSTAMP:20260422T084046
CREATED:20210907T145328Z
LAST-MODIFIED:20210907T145328Z
UID:2344-1631910600-1631916000@sportsante86.fr
SUMMARY:Réunion Débat Sport Santé à Neuville
DESCRIPTION:
URL:https://sportsante86.fr/evenement/reunion-debat-sport-sante-a-neuville/
LOCATION:Neuville du Poitou\, 3 place Aristide Briand\, Neuville du Poitou\, 86170\, France
ORGANIZER;CN="Sport Sant%C3%A9 86":MAILTO:contact@sportsante86.fr
END:VEVENT
END:VCALENDAR