BEGIN:VCALENDAR
VERSION:2.0
PRODID:-//Sport Santé 86 - ECPv6.15.20//NONSGML v1.0//EN
CALSCALE:GREGORIAN
METHOD:PUBLISH
X-ORIGINAL-URL:https://sportsante86.fr
X-WR-CALDESC:Évènements pour Sport Santé 86
REFRESH-INTERVAL;VALUE=DURATION:PT1H
X-Robots-Tag:noindex
X-PUBLISHED-TTL:PT1H
BEGIN:VTIMEZONE
TZID:Europe/Paris
BEGIN:DAYLIGHT
TZOFFSETFROM:+0100
TZOFFSETTO:+0200
TZNAME:CEST
DTSTART:20190331T010000
END:DAYLIGHT
BEGIN:STANDARD
TZOFFSETFROM:+0200
TZOFFSETTO:+0100
TZNAME:CET
DTSTART:20191027T010000
END:STANDARD
BEGIN:DAYLIGHT
TZOFFSETFROM:+0100
TZOFFSETTO:+0200
TZNAME:CEST
DTSTART:20200329T010000
END:DAYLIGHT
BEGIN:STANDARD
TZOFFSETFROM:+0200
TZOFFSETTO:+0100
TZNAME:CET
DTSTART:20201025T010000
END:STANDARD
BEGIN:DAYLIGHT
TZOFFSETFROM:+0100
TZOFFSETTO:+0200
TZNAME:CEST
DTSTART:20210328T010000
END:DAYLIGHT
BEGIN:STANDARD
TZOFFSETFROM:+0200
TZOFFSETTO:+0100
TZNAME:CET
DTSTART:20211031T010000
END:STANDARD
END:VTIMEZONE
BEGIN:VEVENT
DTSTART;TZID=Europe/Paris:20200517T083000
DTEND;TZID=Europe/Paris:20200517T123000
DTSTAMP:20260423T100757
CREATED:20200204T132732Z
LAST-MODIFIED:20200204T132732Z
UID:1902-1589704200-1589718600@sportsante86.fr
SUMMARY:Parcours du Cœur et Randonnée pédestre 2020
DESCRIPTION:  \nParticipez au Parcours du Cœur et découvrez les bons conseils d’hygiène de vie à pratiquer toute l’année pour vous protéger des maladies cardio-vasculaires. Trouvez le Parcours du Cœur le plus proche de chez vous sur www.fedecardio.org
URL:https://sportsante86.fr/evenement/parcours-du-coeur-et-randonnee-pedestre-2020/
LOCATION:ilot tison\, chemin de tison\, Poitiers\, 86000\, France
END:VEVENT
END:VCALENDAR