BEGIN:VCALENDAR
VERSION:2.0
PRODID:-//Sport Santé 86 - ECPv6.15.20//NONSGML v1.0//EN
CALSCALE:GREGORIAN
METHOD:PUBLISH
X-WR-CALNAME:Sport Santé 86
X-ORIGINAL-URL:https://sportsante86.fr
X-WR-CALDESC:Évènements pour Sport Santé 86
REFRESH-INTERVAL;VALUE=DURATION:PT1H
X-Robots-Tag:noindex
X-PUBLISHED-TTL:PT1H
BEGIN:VTIMEZONE
TZID:Europe/Paris
BEGIN:DAYLIGHT
TZOFFSETFROM:+0100
TZOFFSETTO:+0200
TZNAME:CEST
DTSTART:20180325T010000
END:DAYLIGHT
BEGIN:STANDARD
TZOFFSETFROM:+0200
TZOFFSETTO:+0100
TZNAME:CET
DTSTART:20181028T010000
END:STANDARD
BEGIN:DAYLIGHT
TZOFFSETFROM:+0100
TZOFFSETTO:+0200
TZNAME:CEST
DTSTART:20190331T010000
END:DAYLIGHT
BEGIN:STANDARD
TZOFFSETFROM:+0200
TZOFFSETTO:+0100
TZNAME:CET
DTSTART:20191027T010000
END:STANDARD
BEGIN:DAYLIGHT
TZOFFSETFROM:+0100
TZOFFSETTO:+0200
TZNAME:CEST
DTSTART:20200329T010000
END:DAYLIGHT
BEGIN:STANDARD
TZOFFSETFROM:+0200
TZOFFSETTO:+0100
TZNAME:CET
DTSTART:20201025T010000
END:STANDARD
END:VTIMEZONE
BEGIN:VEVENT
DTSTART;TZID=Europe/Paris:20190502T200000
DTEND;TZID=Europe/Paris:20190502T220000
DTSTAMP:20260424T052812
CREATED:20190404T142957Z
LAST-MODIFIED:20190408T082631Z
UID:1112-1556827200-1556834400@sportsante86.fr
SUMMARY:Soirée de lancement Prescrimouv' à Vivonne
DESCRIPTION:L’association Sport Santé 86\, en partenariat avec la Mairie de Vivonne et la Maison de médicale vous donne rendez-vous \nle Jeudi 2 Mai 2019 de 20h à 22h au Château de Vounant (Avenue de Bordeaux à Vivonne) \nAu programme de cette soirée sur la thématique du Sport-Santé et de la prescription médicale d’activité physique \n\nConférence autour des bienfaits de l’activité physique sur la santé*\nPrésentation du projet associatif de Sport Santé 86\nPrésentation de Prescrimouv’ – Bouger sur ordonnance (dispositif de prescription médicale d’activité physique) et de sa mise en œuvre à Vivonne.\n\nQue vous soyez habitants de Vivonne et alentours\, professionnels de santé ou encore acteurs du monde associatif et sportif\, vous êtes les bienvenus à cette soirée. \nSeront présents\, pour échanger avec vous et répondre à vos questions : \n\nDr Xavier Hérault\, médecin à la Maison de santé de Vivonne\nMarie-Laure Prouteau\, adjointe aux sports à la Mairie de Vivonne\nRichard Dupuy\, coordinateur de Sport Santé 86\n\nCette soirée est gratuite sur inscription par mail à contact@sportsante86.fr avant le 28 Avril 2019. \nPour plus d’informations\, vous pouvez contacter Richard Dupuy au 07.71.64.84.44.
URL:https://sportsante86.fr/evenement/soiree-de-lancement-prescrimouv-vivonne/
LOCATION:Chateau de Vounant\, avenue de Bordeaux\, Vivonne\, 86370\, France
CATEGORIES:Information / sensibilisation
ORGANIZER;CN="Sport Sant%C3%A9 86":MAILTO:contact@sportsante86.fr
END:VEVENT
BEGIN:VEVENT
DTSTART;TZID=Europe/Paris:20190504T090000
DTEND;TZID=Europe/Paris:20190504T123000
DTSTAMP:20260424T052812
CREATED:20190404T144515Z
LAST-MODIFIED:20190405T083414Z
UID:1117-1556960400-1556973000@sportsante86.fr
SUMMARY:Journée Santé Bien Etre AFD86
DESCRIPTION:L’Association des Diabétiques de la Vienne vous accueille le samedi 4 mai 2019 à la salle des Associations de Montamisé à partir de 9h pour une journée Santé Bien Etre \n2 parcours de marche seront proposés : \n\nParcours 1 : 5\,800 km sur le plateau de Montamisé\, parcours « plat » & sans difficulté.\nParcours 2 : 9\,300 km. Les 3 premiers kilomètres seront communs aux deux groupes.\n\nLe retour est prévu entre 12h00/12h30. Un apéritif sera offert par l’association et pourra être suivi d’un pique-nique sorti du panier. \nLes différentes actions de l’Association des diabétiques de la Vienne seront présentées.
URL:https://sportsante86.fr/evenement/journee-sante-bien-etre-afd86/
LOCATION:Salle des associations Montamisé\, 11 place de la Mairie\, Montamisé\, 86360\, France
CATEGORIES:Activité physique,Information / sensibilisation
ORGANIZER;CN="Association des diab%C3%A9tiques de la Vienne":MAILTO:afd86@orange.fr
END:VEVENT
BEGIN:VEVENT
DTSTART;TZID=Europe/Paris:20190505T080000
DTEND;TZID=Europe/Paris:20190505T123000
DTSTAMP:20260424T052812
CREATED:20190425T083115Z
LAST-MODIFIED:20190425T084132Z
UID:1211-1557043200-1557059400@sportsante86.fr
SUMMARY:Sport en fête à Marçay
DESCRIPTION:Venez découvrir à votre rythme\, les sentiers des Vallées du Clain le dimanche 5 mai 2019 à Marçay dès 8h ! \n \nRendez-vous à la salle des fêtes de Marçay ! \nAU PROGRAMME : \n8h00 : accueil petit-déjeuner et début des inscriptions pour les randonnées\n8h30 – 9h00 : départs pour les cyclistes : itinéraires de 11 km ou 18 km\n9h00 – 9h30 : départs pour la randonnée pédestre encadrée : itinéraires de 6 km ou 10 km\n8h30 à 9h30 : accueil des enfants pour la P’tite Anim’ et la P’tite Rando\nà partir de 10h30 : stands\, ateliers et informations sur le sport santé : conseils d’une diététicienne\, info sur l’insuffisance cardiaque\, initiation aux gestes de premiers secours\, Qi Gong …\n11h45 : inauguration officielle et cocktail à la salle des fêtes\nRandonnez l’esprit tranquille et confiez-nous vos enfants !\nDes animations GRATUITES sont proposées aux enfants de RANDONNEURS\, sur inscription obligatoire (avant le 24 avril 2019). \nLa P’tite Anim‘ est réservée aux  4 – 8 ans de 8h30 à 12h\, les enfants\, encadrés par le personnel des Accueils de loisirs\, feront des activités à la salle des fêtes de Marçay et en extérieur.\nLa P’tite Rando est réservée aux 8 – 14 ans de 8h30 à 12h\, les enfants\, encadrés par des animateurs\, partiront sur un parcours de randonnée de 6km .\nPour inscrire les enfants\, téléchargez le bulletin et retournez le avant le 24 avril par mail ! \nAttention\, le nombre de places est limitée pour la P’tite Anim’ et la P’tite Rando.
URL:https://sportsante86.fr/evenement/1211/
LOCATION:Salle des fêtes de Marçay\, Le bourg\, Marçay\, 86370\, France
CATEGORIES:Activité physique
ORGANIZER;CN="Communaut%C3%A9 de communes Les Vall%C3%A9es du Clain":MAILTO:sport@valleesduclain.fr
END:VEVENT
BEGIN:VEVENT
DTSTART;TZID=Europe/Paris:20190522T190000
DTEND;TZID=Europe/Paris:20190522T213000
DTSTAMP:20260424T052812
CREATED:20190506T102149Z
LAST-MODIFIED:20190509T094815Z
UID:1234-1558551600-1558560600@sportsante86.fr
SUMMARY:Cirque et humour : Journées européennes de l'insuffisance cardiaque
DESCRIPTION:A l’occasion des journées européennes de l’insuffisance cardiaque\, notre équipe de prévention éducation-promotion de la santé de la Polyclinique de Poitiers Elsan\, organise un événement gratuit et ouvert à tous\, en partenariat avec l’Association Vie Et Cœur « AVEC »\, et le Club Cœur et Santé \nle mercredi 22 mai à partir de 19h à Vouneuil-sous-Biard (salle de spectacle Rives De Boivre) \n  \nCette 3ème édition s’adresse aux petits et aux grands\, avec un programme en lien avec l’activité physique et l’alimentation. Suite à une présentation de l’insuffisance cardiaque par les médecins cardiologues de la Polyclinique\, les familles seront invitées à se plonger dans l’univers merveilleux du cirque ! La troupe Octave Singulier propose un spectacle mettant en lumière l’activité physique. Suite à un buffet santé-plaisir et d’animations pour les enfants\, Charl’Hot\, comédienne humoriste parlera « à sa manière » de l’alimentation. \nLa soirée sera clôturée par la remise de prix aux enfants des classes de CM1-CM2 ayant participé à un concours de journalisme sur la thématique de l’insuffisance cardiaque. Les articles seront exposés dès 18h dans le hall de la salle de spectacle.
URL:https://sportsante86.fr/evenement/journees-europeennes-de-linsuffisance-cardiaque/
LOCATION:Rives de Boivre\, Rives de Boivre\, Vouneuil sous Biard\, 86580\, France
CATEGORIES:Spectacle
ORGANIZER;CN="Elsan Polyclinique de Poitiers":MAILTO:claire.courrieu@polycliniquepoitiers.fr
END:VEVENT
BEGIN:VEVENT
DTSTART;TZID=Europe/Paris:20190528T180000
DTEND;TZID=Europe/Paris:20190528T210000
DTSTAMP:20260424T052812
CREATED:20190509T085610Z
LAST-MODIFIED:20190509T090152Z
UID:1266-1559066400-1559077200@sportsante86.fr
SUMMARY:Les 1000 premiers jours de la vie de votre enfant
DESCRIPTION:La Chaire Sport Santé Bien-être organise son 5ème rendez-vous #JSSBE19\, le mardi 28 mai à 18h (Bâtiment C7 – Poitiers). \nLes 1000 premiers jours de la vie de votre enfant\,\nune période capitale pour sa santé tout au long de la vie \n  \nProgramme \n18h00 : ouverture\, apéro santé\, posters et activités diverses pour les femmes enceintes \n18h45 : Les 1000 premiers jours de la vie par Benjamin Guinhouya \n19h20 : L’activité physique de la future maman par Carina Enea \n19h40 : La santé environnementale (et la question des perturbateurs endocriniens) par Virginie Migeot \n19h55 : Table ronde et réponse aux questions déposées dans la boite à question avec les 3 intervenants + Marion Delas et Delphine Georgelet \n20h30 : Présentation des trois finalistes du concours du meilleur poster et vote du public \n20h45 : Remise du prix du meilleur poster et clôture de la soirée \nL’inscription est gratuite\, ouverte à toutes et à tous\, mais obligatoire (le nombre de place étant limité à 300). Vous pouvez remplir le formulaire en ligne en cliquant ici.
URL:https://sportsante86.fr/evenement/les-1000-premiers-jours-de-la-vie-de-votre-enfant/
LOCATION:Gymnase Universitaire Poitiers\, 5 allée Jean Monnet\, Poitiers\, 86000\, France
CATEGORIES:Conférences
ORGANIZER;CN="Chaire Sport Sant%C3%A9 Bien Etre":MAILTO:laurent.bosquet@univ-poitiers.fr
END:VEVENT
BEGIN:VEVENT
DTSTART;TZID=Europe/Paris:20190530T100000
DTEND;TZID=Europe/Paris:20190602T170000
DTSTAMP:20260424T052812
CREATED:20190522T134538Z
LAST-MODIFIED:20190527T085152Z
UID:1296-1559210400-1559494800@sportsante86.fr
SUMMARY:25ème Sport et collection
DESCRIPTION:Retrouvez Sport Santé 86 sur le stand du Département de la Vienne lors de la 25ème édition de « Sport et Collection » au Circuit Val de Vienne du Vigeant. \nDécouvrez des sports inattendus tels que le Mölkky\, le Vince pong\, le Boccia\, le Step\, des ateliers d’activité physique adaptée. \nLe sport c’est la santé\, pour tous et à tous les âges ! \nEn partenariat avec le CHU de Poitiers\, des professionnels du bien être\, de la prévention et du milieu paramédical seront également présents. \nTélécharger le programme
URL:https://sportsante86.fr/evenement/25eme-sport-et-collection/
LOCATION:Circuit du Val de Vienne\, Circuit du Val de Vienne\, Le Vigeant\, 86150\, France
CATEGORIES:Activité physique
END:VEVENT
END:VCALENDAR