BEGIN:VCALENDAR
VERSION:2.0
PRODID:-//Sport Santé 86 - ECPv6.15.20//NONSGML v1.0//EN
CALSCALE:GREGORIAN
METHOD:PUBLISH
X-ORIGINAL-URL:https://sportsante86.fr
X-WR-CALDESC:Évènements pour Sport Santé 86
REFRESH-INTERVAL;VALUE=DURATION:PT1H
X-Robots-Tag:noindex
X-PUBLISHED-TTL:PT1H
BEGIN:VTIMEZONE
TZID:Europe/Paris
BEGIN:DAYLIGHT
TZOFFSETFROM:+0100
TZOFFSETTO:+0200
TZNAME:CEST
DTSTART:20190331T010000
END:DAYLIGHT
BEGIN:STANDARD
TZOFFSETFROM:+0200
TZOFFSETTO:+0100
TZNAME:CET
DTSTART:20191027T010000
END:STANDARD
BEGIN:DAYLIGHT
TZOFFSETFROM:+0100
TZOFFSETTO:+0200
TZNAME:CEST
DTSTART:20200329T010000
END:DAYLIGHT
BEGIN:STANDARD
TZOFFSETFROM:+0200
TZOFFSETTO:+0100
TZNAME:CET
DTSTART:20201025T010000
END:STANDARD
BEGIN:DAYLIGHT
TZOFFSETFROM:+0100
TZOFFSETTO:+0200
TZNAME:CEST
DTSTART:20210328T010000
END:DAYLIGHT
BEGIN:STANDARD
TZOFFSETFROM:+0200
TZOFFSETTO:+0100
TZNAME:CET
DTSTART:20211031T010000
END:STANDARD
END:VTIMEZONE
BEGIN:VEVENT
DTSTART;TZID=Europe/Paris:20200911T100000
DTEND;TZID=Europe/Paris:20200914T180000
DTSTAMP:20260423T052219
CREATED:20200817T084834Z
LAST-MODIFIED:20200817T084834Z
UID:2136-1599818400-1600106400@sportsante86.fr
SUMMARY:Sport et Collection 2020
DESCRIPTION:La 26ème édition de Sport & Collection est reportée aux 10\, 11\, 12 et 13 septembre 2020 en raison de l’épidémie de coronavirus.\nNous comptons sur vous ! « 500 Ferrari contre le cancer » sera l’occasion de rendre un vibrant hommage à tous les professionnels de santé après cette terrible épreuve.
URL:https://sportsante86.fr/evenement/sport-et-collection-2020/
LOCATION:Circuit du Val de Vienne\, Circuit du Val de Vienne\, Le Vigeant\, 86150\, France
END:VEVENT
END:VCALENDAR