BEGIN:VCALENDAR
VERSION:2.0
PRODID:-//Sport Santé 86 - ECPv6.15.20//NONSGML v1.0//EN
CALSCALE:GREGORIAN
METHOD:PUBLISH
X-ORIGINAL-URL:https://sportsante86.fr
X-WR-CALDESC:Évènements pour Sport Santé 86
REFRESH-INTERVAL;VALUE=DURATION:PT1H
X-Robots-Tag:noindex
X-PUBLISHED-TTL:PT1H
BEGIN:VTIMEZONE
TZID:Europe/Paris
BEGIN:DAYLIGHT
TZOFFSETFROM:+0100
TZOFFSETTO:+0200
TZNAME:CEST
DTSTART:20190331T010000
END:DAYLIGHT
BEGIN:STANDARD
TZOFFSETFROM:+0200
TZOFFSETTO:+0100
TZNAME:CET
DTSTART:20191027T010000
END:STANDARD
BEGIN:DAYLIGHT
TZOFFSETFROM:+0100
TZOFFSETTO:+0200
TZNAME:CEST
DTSTART:20200329T010000
END:DAYLIGHT
BEGIN:STANDARD
TZOFFSETFROM:+0200
TZOFFSETTO:+0100
TZNAME:CET
DTSTART:20201025T010000
END:STANDARD
BEGIN:DAYLIGHT
TZOFFSETFROM:+0100
TZOFFSETTO:+0200
TZNAME:CEST
DTSTART:20210328T010000
END:DAYLIGHT
BEGIN:STANDARD
TZOFFSETFROM:+0200
TZOFFSETTO:+0100
TZNAME:CET
DTSTART:20211031T010000
END:STANDARD
END:VTIMEZONE
BEGIN:VEVENT
DTSTART;TZID=Europe/Paris:20200630T173000
DTEND;TZID=Europe/Paris:20200630T203000
DTSTAMP:20260423T082959
CREATED:20200630T150747Z
LAST-MODIFIED:20200630T150747Z
UID:2109-1593538200-1593549000@sportsante86.fr
SUMMARY:Rdv Thématique (en visio) - Le Sport-Santé dans mon club ou dans mon comité
DESCRIPTION:Cette soirée vous est proposée pour appréhender le contexte\, la réglementation et les dispositifs existants de prescription médicale d’activité physique sur le territoire de la Vienne. \n  \nInscription obligatoire : https://cdos86.fr/events/rdv-thematique-en-visio-le-sport-sante-dans-mon-club-ou-comite/
URL:https://sportsante86.fr/evenement/rdv-thematique-en-visio-le-sport-sante-dans-mon-club-ou-dans-mon-comite/
LOCATION:En visio
ORGANIZER;CN="Sport Sant%C3%A9 86":MAILTO:contact@sportsante86.fr
END:VEVENT
END:VCALENDAR