BEGIN:VCALENDAR
VERSION:2.0
PRODID:-//Sport Santé 86 - ECPv6.15.20//NONSGML v1.0//EN
CALSCALE:GREGORIAN
METHOD:PUBLISH
X-WR-CALNAME:Sport Santé 86
X-ORIGINAL-URL:https://sportsante86.fr
X-WR-CALDESC:Évènements pour Sport Santé 86
REFRESH-INTERVAL;VALUE=DURATION:PT1H
X-Robots-Tag:noindex
X-PUBLISHED-TTL:PT1H
BEGIN:VTIMEZONE
TZID:Europe/Paris
BEGIN:DAYLIGHT
TZOFFSETFROM:+0100
TZOFFSETTO:+0200
TZNAME:CEST
DTSTART:20190331T010000
END:DAYLIGHT
BEGIN:STANDARD
TZOFFSETFROM:+0200
TZOFFSETTO:+0100
TZNAME:CET
DTSTART:20191027T010000
END:STANDARD
BEGIN:DAYLIGHT
TZOFFSETFROM:+0100
TZOFFSETTO:+0200
TZNAME:CEST
DTSTART:20200329T010000
END:DAYLIGHT
BEGIN:STANDARD
TZOFFSETFROM:+0200
TZOFFSETTO:+0100
TZNAME:CET
DTSTART:20201025T010000
END:STANDARD
BEGIN:DAYLIGHT
TZOFFSETFROM:+0100
TZOFFSETTO:+0200
TZNAME:CEST
DTSTART:20210328T010000
END:DAYLIGHT
BEGIN:STANDARD
TZOFFSETFROM:+0200
TZOFFSETTO:+0100
TZNAME:CET
DTSTART:20211031T010000
END:STANDARD
END:VTIMEZONE
BEGIN:VEVENT
DTSTART;VALUE=DATE:20200602
DTEND;VALUE=DATE:20200604
DTSTAMP:20260423T100621
CREATED:20200117T111449Z
LAST-MODIFIED:20200117T120620Z
UID:1851-1591056000-1591228799@sportsante86.fr
SUMMARY:Colloque “Bouger pour bien grandir”
DESCRIPTION:Parce que la santé des enfants conditionne la santé des adultes\, et que l’activité physique détermine la santé des enfants\, le Pôle Ressources National Sport Santé Bien-être et l’Onaps ont choisi d’aborder cette thématique pour leur colloque annuel intitulé “Bouger pour bien grandir” \n \nCe colloque annuel s’articulera autour d’une plénière scientifique avec la participation d’experts nationaux et de 4 tables rondes traitant de l’engagement des institutions\, la mobilisation des réseaux\, les actions de terrain et l’écomobilité scolaire.Un appel à communication est lancé pour une session de communications orales qui se tiendra en fin de matinée du deuxième jour.
URL:https://sportsante86.fr/evenement/colloque-bouger-pour-bien-grandir/
LOCATION:Pôle Services MACIF\, 14 rue de la Broche\, Niort\, 79000\, France
CATEGORIES:Conférences
ORGANIZER;CN="ONAPS":MAILTO:contact@onaps.fr
END:VEVENT
END:VCALENDAR