BEGIN:VCALENDAR
VERSION:2.0
PRODID:-//Sport Santé 86 - ECPv6.15.20//NONSGML v1.0//EN
CALSCALE:GREGORIAN
METHOD:PUBLISH
X-ORIGINAL-URL:https://sportsante86.fr
X-WR-CALDESC:Évènements pour Sport Santé 86
REFRESH-INTERVAL;VALUE=DURATION:PT1H
X-Robots-Tag:noindex
X-PUBLISHED-TTL:PT1H
BEGIN:VTIMEZONE
TZID:Europe/Paris
BEGIN:DAYLIGHT
TZOFFSETFROM:+0100
TZOFFSETTO:+0200
TZNAME:CEST
DTSTART:20190331T010000
END:DAYLIGHT
BEGIN:STANDARD
TZOFFSETFROM:+0200
TZOFFSETTO:+0100
TZNAME:CET
DTSTART:20191027T010000
END:STANDARD
BEGIN:DAYLIGHT
TZOFFSETFROM:+0100
TZOFFSETTO:+0200
TZNAME:CEST
DTSTART:20200329T010000
END:DAYLIGHT
BEGIN:STANDARD
TZOFFSETFROM:+0200
TZOFFSETTO:+0100
TZNAME:CET
DTSTART:20201025T010000
END:STANDARD
BEGIN:DAYLIGHT
TZOFFSETFROM:+0100
TZOFFSETTO:+0200
TZNAME:CEST
DTSTART:20210328T010000
END:DAYLIGHT
BEGIN:STANDARD
TZOFFSETFROM:+0200
TZOFFSETTO:+0100
TZNAME:CET
DTSTART:20211031T010000
END:STANDARD
END:VTIMEZONE
BEGIN:VEVENT
DTSTART;TZID=Europe/Paris:20200319T090000
DTEND;TZID=Europe/Paris:20200319T170000
DTSTAMP:20260423T150524
CREATED:20200221T133600Z
LAST-MODIFIED:20200221T133600Z
UID:1960-1584608400-1584637200@sportsante86.fr
SUMMARY:COLON TOUR à la découverte de l'intestin géant
DESCRIPTION:Le cancer colorectal ou cancer de l’intestin est la 2ème cause de décès par cancer en France. Il se développe lentement à l’intérieur du colon ou du rectum\, le plus souvent après 50 ans\, à partir de petites lésions nommées polypes. \nIl y a près de 45 000 nouveaux cas chaque année et 18 000 décès annuels ; par sa fréquence c’est le 2ème cancer chez la femme après le cancer du sein\, le 3ème cancer chez l’homme après le cancer de la prostate et du poumon. \nLe dépistage repose sur la recherche de sang dans les selles et il est proposé tous les 2 ans aux personnes de 50 à 74 ans. Un courrier vous invite à retirer ce test chez votre médecin traitant ; ce test est pris en charge à 100 % sans avance de frais de votre part. \nVenez nous rencontrer sur Civray pour plus d’informations sur la prévention de ce cancer !
URL:https://sportsante86.fr/evenement/colon-tour-a-la-decouverte-de-lintestin-geant/
LOCATION:Maison de la Santé\, 10 la Vallée des Bas Champs\, Civray\, 86400\, France
CATEGORIES:Information / sensibilisation
ATTACH;FMTTYPE=application/pdf:https://sportsante86.fr/wp-content/uploads/2020/02/AFFICHE-COLON-TOUR-CIVRAY-1.pdf
END:VEVENT
END:VCALENDAR