BEGIN:VCALENDAR
VERSION:2.0
PRODID:-//Sport Santé 86 - ECPv6.15.20//NONSGML v1.0//EN
CALSCALE:GREGORIAN
METHOD:PUBLISH
X-ORIGINAL-URL:https://sportsante86.fr
X-WR-CALDESC:Évènements pour Sport Santé 86
REFRESH-INTERVAL;VALUE=DURATION:PT1H
X-Robots-Tag:noindex
X-PUBLISHED-TTL:PT1H
BEGIN:VTIMEZONE
TZID:Europe/Paris
BEGIN:DAYLIGHT
TZOFFSETFROM:+0100
TZOFFSETTO:+0200
TZNAME:CEST
DTSTART:20180325T010000
END:DAYLIGHT
BEGIN:STANDARD
TZOFFSETFROM:+0200
TZOFFSETTO:+0100
TZNAME:CET
DTSTART:20181028T010000
END:STANDARD
BEGIN:DAYLIGHT
TZOFFSETFROM:+0100
TZOFFSETTO:+0200
TZNAME:CEST
DTSTART:20190331T010000
END:DAYLIGHT
BEGIN:STANDARD
TZOFFSETFROM:+0200
TZOFFSETTO:+0100
TZNAME:CET
DTSTART:20191027T010000
END:STANDARD
BEGIN:DAYLIGHT
TZOFFSETFROM:+0100
TZOFFSETTO:+0200
TZNAME:CEST
DTSTART:20200329T010000
END:DAYLIGHT
BEGIN:STANDARD
TZOFFSETFROM:+0200
TZOFFSETTO:+0100
TZNAME:CET
DTSTART:20201025T010000
END:STANDARD
END:VTIMEZONE
BEGIN:VEVENT
DTSTART;TZID=Europe/Paris:20191007T130000
DTEND;TZID=Europe/Paris:20191007T170000
DTSTAMP:20260423T232517
CREATED:20191002T095714Z
LAST-MODIFIED:20191002T095810Z
UID:1588-1570453200-1570467600@sportsante86.fr
SUMMARY:Je prends soin de ma santé\, je viens m'informer
DESCRIPTION:L’Assurance Maladie de la Vienne organise un temps d’échanges pour être mieux informé sur la prévention et les dépistages des cancers féminins. \nNous vous invitons à venir rencontrer les professionnels de Sport Santé 86\, de la Ligue contre le cancer\, du Centre de coordination Nouvelle Aquitaine du dépistage des cancers et des Cliniques Elsan de Poitiers \nle Lundi 7 Octobre 2019 de 13h à 17h  \nà l’accueil de la CPAM \n41 rue de Touffenet \n86000 Poitiers
URL:https://sportsante86.fr/evenement/je-prends-soin-de-ma-sante-je-viens-minformer/
LOCATION:CPAM de la Vienne\, 41 rue de Touffenet\, Poitiers\, 86000\, France
CATEGORIES:Information / sensibilisation
END:VEVENT
END:VCALENDAR