BEGIN:VCALENDAR
VERSION:2.0
PRODID:-//Sport Santé 86 - ECPv6.15.20//NONSGML v1.0//EN
CALSCALE:GREGORIAN
METHOD:PUBLISH
X-WR-CALNAME:Sport Santé 86
X-ORIGINAL-URL:https://sportsante86.fr
X-WR-CALDESC:Évènements pour Sport Santé 86
REFRESH-INTERVAL;VALUE=DURATION:PT1H
X-Robots-Tag:noindex
X-PUBLISHED-TTL:PT1H
BEGIN:VTIMEZONE
TZID:Europe/Paris
BEGIN:DAYLIGHT
TZOFFSETFROM:+0100
TZOFFSETTO:+0200
TZNAME:CEST
DTSTART:20180325T010000
END:DAYLIGHT
BEGIN:STANDARD
TZOFFSETFROM:+0200
TZOFFSETTO:+0100
TZNAME:CET
DTSTART:20181028T010000
END:STANDARD
BEGIN:DAYLIGHT
TZOFFSETFROM:+0100
TZOFFSETTO:+0200
TZNAME:CEST
DTSTART:20190331T010000
END:DAYLIGHT
BEGIN:STANDARD
TZOFFSETFROM:+0200
TZOFFSETTO:+0100
TZNAME:CET
DTSTART:20191027T010000
END:STANDARD
BEGIN:DAYLIGHT
TZOFFSETFROM:+0100
TZOFFSETTO:+0200
TZNAME:CEST
DTSTART:20200329T010000
END:DAYLIGHT
BEGIN:STANDARD
TZOFFSETFROM:+0200
TZOFFSETTO:+0100
TZNAME:CET
DTSTART:20201025T010000
END:STANDARD
END:VTIMEZONE
BEGIN:VEVENT
DTSTART;TZID=Europe/Paris:20190606T200000
DTEND;TZID=Europe/Paris:20190606T220000
DTSTAMP:20260424T052811
CREATED:20190506T103137Z
LAST-MODIFIED:20190527T085042Z
UID:1238-1559851200-1559858400@sportsante86.fr
SUMMARY:Théâtre débat "Les délieurs de langue"
DESCRIPTION:Venez assister nombreuses et nombreux à une soirée théâtre débat le Jeudi 6 Juin 2019 à la Maison de la Gibauderie à Poitiers. \nUn groupe d’acteurs de la prévention (Dépistage des cancers – Centre de coordination Nouvelle aquitaine\, la Ligue contre le cancer\, le Groupe Elsan Poitiers\, Sport Santé 86) vous propose un spectacle burlesque pour aborder différemment les dépistages du cancer du sein et du cancer colorectal intitulé Les délieurs de langues. \nCette représentation sera suivi d’un débat autour de la prévention. \nEntrée gratuite mais réservation auprès de la Ligue contre la cancer : \n05 49 47 10 15 / cd86@ligue-cancer.net
URL:https://sportsante86.fr/evenement/theatre-debat-les-delieurs-de-langue/
LOCATION:Maison de la Gibauderie\, 111 rue de la Gibauderie\, Poitiers\, 86000\, France
CATEGORIES:Conférences,Spectacle
ORGANIZER;CN="Ligue contre le cancer":MAILTO:cd86@ligue-cancer.net
END:VEVENT
END:VCALENDAR