BEGIN:VCALENDAR
VERSION:2.0
PRODID:-//Sport Santé 86 - ECPv6.15.20//NONSGML v1.0//EN
CALSCALE:GREGORIAN
METHOD:PUBLISH
X-ORIGINAL-URL:https://sportsante86.fr
X-WR-CALDESC:Évènements pour Sport Santé 86
REFRESH-INTERVAL;VALUE=DURATION:PT1H
X-Robots-Tag:noindex
X-PUBLISHED-TTL:PT1H
BEGIN:VTIMEZONE
TZID:Europe/Paris
BEGIN:DAYLIGHT
TZOFFSETFROM:+0100
TZOFFSETTO:+0200
TZNAME:CEST
DTSTART:20180325T010000
END:DAYLIGHT
BEGIN:STANDARD
TZOFFSETFROM:+0200
TZOFFSETTO:+0100
TZNAME:CET
DTSTART:20181028T010000
END:STANDARD
BEGIN:DAYLIGHT
TZOFFSETFROM:+0100
TZOFFSETTO:+0200
TZNAME:CEST
DTSTART:20190331T010000
END:DAYLIGHT
BEGIN:STANDARD
TZOFFSETFROM:+0200
TZOFFSETTO:+0100
TZNAME:CET
DTSTART:20191027T010000
END:STANDARD
BEGIN:DAYLIGHT
TZOFFSETFROM:+0100
TZOFFSETTO:+0200
TZNAME:CEST
DTSTART:20200329T010000
END:DAYLIGHT
BEGIN:STANDARD
TZOFFSETFROM:+0200
TZOFFSETTO:+0100
TZNAME:CET
DTSTART:20201025T010000
END:STANDARD
END:VTIMEZONE
BEGIN:VEVENT
DTSTART;TZID=Europe/Paris:20190530T100000
DTEND;TZID=Europe/Paris:20190602T170000
DTSTAMP:20260424T053211
CREATED:20190522T134538Z
LAST-MODIFIED:20190527T085152Z
UID:1296-1559210400-1559494800@sportsante86.fr
SUMMARY:25ème Sport et collection
DESCRIPTION:Retrouvez Sport Santé 86 sur le stand du Département de la Vienne lors de la 25ème édition de « Sport et Collection » au Circuit Val de Vienne du Vigeant. \nDécouvrez des sports inattendus tels que le Mölkky\, le Vince pong\, le Boccia\, le Step\, des ateliers d’activité physique adaptée. \nLe sport c’est la santé\, pour tous et à tous les âges ! \nEn partenariat avec le CHU de Poitiers\, des professionnels du bien être\, de la prévention et du milieu paramédical seront également présents. \nTélécharger le programme
URL:https://sportsante86.fr/evenement/25eme-sport-et-collection/
LOCATION:Circuit du Val de Vienne\, Circuit du Val de Vienne\, Le Vigeant\, 86150\, France
CATEGORIES:Activité physique
END:VEVENT
END:VCALENDAR