BEGIN:VCALENDAR
VERSION:2.0
PRODID:-//Sport Santé 86 - ECPv6.15.20//NONSGML v1.0//EN
CALSCALE:GREGORIAN
METHOD:PUBLISH
X-WR-CALNAME:Sport Santé 86
X-ORIGINAL-URL:https://sportsante86.fr
X-WR-CALDESC:Évènements pour Sport Santé 86
REFRESH-INTERVAL;VALUE=DURATION:PT1H
X-Robots-Tag:noindex
X-PUBLISHED-TTL:PT1H
BEGIN:VTIMEZONE
TZID:Europe/Paris
BEGIN:DAYLIGHT
TZOFFSETFROM:+0100
TZOFFSETTO:+0200
TZNAME:CEST
DTSTART:20180325T010000
END:DAYLIGHT
BEGIN:STANDARD
TZOFFSETFROM:+0200
TZOFFSETTO:+0100
TZNAME:CET
DTSTART:20181028T010000
END:STANDARD
BEGIN:DAYLIGHT
TZOFFSETFROM:+0100
TZOFFSETTO:+0200
TZNAME:CEST
DTSTART:20190331T010000
END:DAYLIGHT
BEGIN:STANDARD
TZOFFSETFROM:+0200
TZOFFSETTO:+0100
TZNAME:CET
DTSTART:20191027T010000
END:STANDARD
BEGIN:DAYLIGHT
TZOFFSETFROM:+0100
TZOFFSETTO:+0200
TZNAME:CEST
DTSTART:20200329T010000
END:DAYLIGHT
BEGIN:STANDARD
TZOFFSETFROM:+0200
TZOFFSETTO:+0100
TZNAME:CET
DTSTART:20201025T010000
END:STANDARD
END:VTIMEZONE
BEGIN:VEVENT
DTSTART;TZID=Europe/Paris:20190502T200000
DTEND;TZID=Europe/Paris:20190502T220000
DTSTAMP:20260424T070543
CREATED:20190404T142957Z
LAST-MODIFIED:20190408T082631Z
UID:1112-1556827200-1556834400@sportsante86.fr
SUMMARY:Soirée de lancement Prescrimouv' à Vivonne
DESCRIPTION:L’association Sport Santé 86\, en partenariat avec la Mairie de Vivonne et la Maison de médicale vous donne rendez-vous \nle Jeudi 2 Mai 2019 de 20h à 22h au Château de Vounant (Avenue de Bordeaux à Vivonne) \nAu programme de cette soirée sur la thématique du Sport-Santé et de la prescription médicale d’activité physique \n\nConférence autour des bienfaits de l’activité physique sur la santé*\nPrésentation du projet associatif de Sport Santé 86\nPrésentation de Prescrimouv’ – Bouger sur ordonnance (dispositif de prescription médicale d’activité physique) et de sa mise en œuvre à Vivonne.\n\nQue vous soyez habitants de Vivonne et alentours\, professionnels de santé ou encore acteurs du monde associatif et sportif\, vous êtes les bienvenus à cette soirée. \nSeront présents\, pour échanger avec vous et répondre à vos questions : \n\nDr Xavier Hérault\, médecin à la Maison de santé de Vivonne\nMarie-Laure Prouteau\, adjointe aux sports à la Mairie de Vivonne\nRichard Dupuy\, coordinateur de Sport Santé 86\n\nCette soirée est gratuite sur inscription par mail à contact@sportsante86.fr avant le 28 Avril 2019. \nPour plus d’informations\, vous pouvez contacter Richard Dupuy au 07.71.64.84.44.
URL:https://sportsante86.fr/evenement/soiree-de-lancement-prescrimouv-vivonne/
LOCATION:Chateau de Vounant\, avenue de Bordeaux\, Vivonne\, 86370\, France
CATEGORIES:Information / sensibilisation
ORGANIZER;CN="Sport Sant%C3%A9 86":MAILTO:contact@sportsante86.fr
END:VEVENT
END:VCALENDAR