BEGIN:VCALENDAR
VERSION:2.0
PRODID:-//Sport Santé 86 - ECPv6.15.20//NONSGML v1.0//EN
CALSCALE:GREGORIAN
METHOD:PUBLISH
X-ORIGINAL-URL:https://sportsante86.fr
X-WR-CALDESC:Évènements pour Sport Santé 86
REFRESH-INTERVAL;VALUE=DURATION:PT1H
X-Robots-Tag:noindex
X-PUBLISHED-TTL:PT1H
BEGIN:VTIMEZONE
TZID:Europe/Paris
BEGIN:DAYLIGHT
TZOFFSETFROM:+0100
TZOFFSETTO:+0200
TZNAME:CEST
DTSTART:20180325T010000
END:DAYLIGHT
BEGIN:STANDARD
TZOFFSETFROM:+0200
TZOFFSETTO:+0100
TZNAME:CET
DTSTART:20181028T010000
END:STANDARD
BEGIN:DAYLIGHT
TZOFFSETFROM:+0100
TZOFFSETTO:+0200
TZNAME:CEST
DTSTART:20190331T010000
END:DAYLIGHT
BEGIN:STANDARD
TZOFFSETFROM:+0200
TZOFFSETTO:+0100
TZNAME:CET
DTSTART:20191027T010000
END:STANDARD
BEGIN:DAYLIGHT
TZOFFSETFROM:+0100
TZOFFSETTO:+0200
TZNAME:CEST
DTSTART:20200329T010000
END:DAYLIGHT
BEGIN:STANDARD
TZOFFSETFROM:+0200
TZOFFSETTO:+0100
TZNAME:CET
DTSTART:20201025T010000
END:STANDARD
END:VTIMEZONE
BEGIN:VEVENT
DTSTART;TZID=Europe/Paris:20190408T090000
DTEND;TZID=Europe/Paris:20190414T190000
DTSTAMP:20260424T083523
CREATED:20190405T142308Z
LAST-MODIFIED:20190405T142414Z
UID:1141-1554714000-1555268400@sportsante86.fr
SUMMARY:Semaine de la Santé Vienne et Gartempe
DESCRIPTION:La Communauté de communes Vienne & Gartempe organise la Semaine de la santé du 8 au 14 avril 2019 sur l’ensemble du territoire. Grâce à nos partenaires\, nous vous proposons une soixantaine d’animations en accès libre et gratuit. \nRetrouvez tous les jours des activités physiques en accès libre ou sur inscription : activité physique adaptée\, aquagym\, rando santé\, yoga\, marche bâton\, rencontre sportive intergénérationnelle\, fitness\, équilibre\, natation plaisir\, remise en forme\, … et participez à une conférence sur les bienfaits de l’activité physique le mardi 9 avril 2019. \nPour certains événements\, inscription obligatoire avant le 3 avril ! \nTélécharger le programme en cliquant ici !
URL:https://sportsante86.fr/evenement/semaine-de-la-sante-vienne-et-gartempe/
LOCATION:Communauté de communes Vienne et Gartempe\, 6 rue Daniel Cormier\, Montmorillon\, 86502\, France
CATEGORIES:Activité physique,Conférences,Information / sensibilisation
ORGANIZER;CN="Communaut%C3%A9 de communes Vienne et Gartempe":MAILTO:contact@ccvg86.fr
END:VEVENT
END:VCALENDAR