BEGIN:VCALENDAR
VERSION:2.0
PRODID:-//Sport Santé 86 - ECPv6.15.20//NONSGML v1.0//EN
CALSCALE:GREGORIAN
METHOD:PUBLISH
X-WR-CALNAME:Sport Santé 86
X-ORIGINAL-URL:https://sportsante86.fr
X-WR-CALDESC:Évènements pour Sport Santé 86
REFRESH-INTERVAL;VALUE=DURATION:PT1H
X-Robots-Tag:noindex
X-PUBLISHED-TTL:PT1H
BEGIN:VTIMEZONE
TZID:Europe/Paris
BEGIN:DAYLIGHT
TZOFFSETFROM:+0100
TZOFFSETTO:+0200
TZNAME:CEST
DTSTART:20180325T010000
END:DAYLIGHT
BEGIN:STANDARD
TZOFFSETFROM:+0200
TZOFFSETTO:+0100
TZNAME:CET
DTSTART:20181028T010000
END:STANDARD
BEGIN:DAYLIGHT
TZOFFSETFROM:+0100
TZOFFSETTO:+0200
TZNAME:CEST
DTSTART:20190331T010000
END:DAYLIGHT
BEGIN:STANDARD
TZOFFSETFROM:+0200
TZOFFSETTO:+0100
TZNAME:CET
DTSTART:20191027T010000
END:STANDARD
BEGIN:DAYLIGHT
TZOFFSETFROM:+0100
TZOFFSETTO:+0200
TZNAME:CEST
DTSTART:20200329T010000
END:DAYLIGHT
BEGIN:STANDARD
TZOFFSETFROM:+0200
TZOFFSETTO:+0100
TZNAME:CET
DTSTART:20201025T010000
END:STANDARD
END:VTIMEZONE
BEGIN:VEVENT
DTSTART;VALUE=DATE:20190326
DTEND;VALUE=DATE:20190327
DTSTAMP:20260424T101009
CREATED:20190227T133233Z
LAST-MODIFIED:20190304T132557Z
UID:628-1553558400-1553644799@sportsante86.fr
SUMMARY:Chuter : ce n'est pas une fatalité !
DESCRIPTION:Réunis par Itinéraire Santé\, différents acteurs se sont engagés dans une démarche de prévention des chutes. \nDes ateliers d’activité physique adaptée et des démonstrations d’aides techniques et de solutions d’aménagement proposés par la Fédération de Gymnastique Volontaire (EPGV)\, Siel Bleu\, ReSanté-Vous\, la Fédération ADMR\, Le-Centre\, Proxisanté\, Sport Santé 86\, Zurich Optique… informeront chacun sur les différentes ressources du Département. \nInscription obligatoire auprès d’Itinéraire Santé.
URL:https://sportsante86.fr/evenement/chuter-ce-nest-pas-une-fatalite-2/
LOCATION:Salle des fêtes de Gençay\, Gençay\, 86160\, France
CATEGORIES:Information / sensibilisation
ATTACH;FMTTYPE=image/png:https://sportsante86.fr/wp-content/uploads/2019/02/affiche-journées-gençay-e1551705939695.png
ORGANIZER;CN="Itin%C3%A9raire Sant%C3%A9":MAILTO:itineraire.sante@esante-poitou-charentes.fr
END:VEVENT
END:VCALENDAR